BEGIN:VCALENDAR
VERSION:2.0
PRODID:-//eventon.com NONSGML v1.0//EN
CALSCALE:GREGORIAN
METHOD:PUBLISH
BEGIN:VEVENT
UID:69e9da5b99dc5
DTSTAMP:20260423T083747Z
DTSTART:20271128T140000Z
DTEND:20271128T151500Z
LOCATION:
SUMMARY:freier Termin in ND oder NRW
DESCRIPTION:freier Termin in ND oder NRW\nhttps://danielkallauch.de/events/
 freier-termin-in-nd-oder-nrw/
URL:https://danielkallauch.de/events/freier-termin-in-nd-oder-nrw/
END:VEVENT
END:VCALENDAR