BEGIN:VCALENDAR
VERSION:2.0
PRODID:-//eventon.com NONSGML v1.0//EN
CALSCALE:GREGORIAN
METHOD:PUBLISH
BEGIN:VEVENT
UID:69e739b72af15
DTSTAMP:20260421T084751Z
DTSTART:20270411T130000Z
DTEND:20270411T141500Z
LOCATION:
SUMMARY:74366 Kirchheim am Neckar
DESCRIPTION:74366 Kirchheim am Neckar\nhttps://danielkallauch.de/events/fre
 ier-termin-in-bw-9/
URL:https://danielkallauch.de/events/freier-termin-in-bw-9/
END:VEVENT
END:VCALENDAR