BEGIN:VCALENDAR
VERSION:2.0
PRODID:-//eventon.com NONSGML v1.0//EN
CALSCALE:GREGORIAN
METHOD:PUBLISH
BEGIN:VEVENT
UID:69e7396268667
DTSTAMP:20260421T084626Z
DTSTART:20270313T140000Z
DTEND:20270313T151500Z
LOCATION:
SUMMARY:92648 Vohenstrauß
DESCRIPTION:92648 Vohenstrauß\nhttps://danielkallauch.de/events/freier-ter
 min-in-he-rp-bw-oder-nrw/
URL:https://danielkallauch.de/events/freier-termin-in-he-rp-bw-oder-nrw/
END:VEVENT
END:VCALENDAR