BEGIN:VCALENDAR
VERSION:2.0
PRODID:-//eventon.com NONSGML v1.0//EN
CALSCALE:GREGORIAN
METHOD:PUBLISH
BEGIN:VEVENT
UID:69e9da6ccbd66
DTSTAMP:20260423T083804Z
DTSTART:20271210T160000Z
DTEND:20271210T171500Z
LOCATION:
SUMMARY:freier Termin in BW
DESCRIPTION:freier Termin in BW\nhttps://danielkallauch.de/events/freier-te
 rmin-in-bw-5/
URL:https://danielkallauch.de/events/freier-termin-in-bw-5/
END:VEVENT
END:VCALENDAR