BEGIN:VCALENDAR
VERSION:2.0
PRODID:-//eventon.com NONSGML v1.0//EN
CALSCALE:GREGORIAN
METHOD:PUBLISH
BEGIN:VEVENT
UID:69e5ec79985b8
DTSTAMP:20260420T090601Z
DTSTART:20261218T160000Z
DTEND:20261218T171500Z
LOCATION:
SUMMARY:34128 Kassel
DESCRIPTION:34128 Kassel\nhttps://danielkallauch.de/events/freier-termin-in
 -nr-6/
URL:https://danielkallauch.de/events/freier-termin-in-nr-6/
END:VEVENT
END:VCALENDAR